View In:
ArcGIS JavaScript
ArcGIS Online Map Viewer
ArcGIS Earth
ArcMap
View Footprint In:
ArcGIS Online Map Viewer
Service Description: City of Lubbock Imagery 2018. Projected in State Plane and cached.
Name: Imagery/Lubbock_Image_Cache_2018_StatePlane
Description: City of Lubbock Imagery 2018. Projected in State Plane and cached.
Single Fused Map Cache: false
Extent:
XMin: 878725.9982638806
YMin: 7200215.972222252
XMax: 1002806.0763888806
YMax: 7363896.09375003
Spatial Reference: 102738
(2276)
LatestVCSWkid(0)
Initial Extent:
XMin: 878725.9982638806
YMin: 7200215.972222252
XMax: 1002806.0763888806
YMax: 7363896.09375003
Spatial Reference: 102738
(2276)
LatestVCSWkid(0)
Full Extent:
XMin: 878725.9982638806
YMin: 7200215.972222252
XMax: 1002806.0763888806
YMax: 7363896.09375003
Spatial Reference: 102738
(2276)
LatestVCSWkid(0)
Pixel Size X: 0.2170138888888889
Pixel Size Y: 0.21701388888888917
Band Count: 3
Pixel Type: U8
RasterFunction Infos: {"rasterFunctionInfos": [{
"name": "None",
"description": "",
"help": ""
}]}
Mensuration Capabilities: Basic
Has Histograms: false
Has Colormap: false
Has Multi Dimensions : false
Rendering Rule:
Min Scale: 0
Max Scale: 0
Copyright Text:
Service Data Type: esriImageServiceDataTypeRGB
Min Values: N/A
Max Values: N/A
Mean Values: N/A
Standard Deviation Values: N/A
Object ID Field:
Fields:
None
Default Mosaic Method: Center
Allowed Mosaic Methods:
SortField:
SortValue: null
Mosaic Operator: First
Default Compression Quality: 75
Default Resampling Method: Bilinear
Max Record Count: null
Max Image Height: 4100
Max Image Width: 15000
Max Download Image Count: null
Max Mosaic Image Count: null
Allow Raster Function: true
Allow Copy: true
Allow Analysis: true
Allow Compute TiePoints: false
Supports Statistics: false
Supports Advanced Queries: false
Use StandardizedQueries: true
Raster Type Infos:
Name: Raster Dataset
Description: Supports all ArcGIS Raster Datasets
Help:
Has Raster Attribute Table: false
Edit Fields Info: null
Ownership Based AccessControl For Rasters: null
Child Resources:
Info
Statistics
Key Properties
Legend
Raster Function Infos
Supported Operations:
Export Image
Identify
Measure
Compute Histograms
Compute Statistics Histograms
Get Samples
Compute Class Statistics
Query Boundary
Compute Pixel Location
Compute Angles
Validate
Project