<?xml version="1.0" encoding="UTF-8" standalone="no"?>
<metadata xml:lang="en">
<Esri>
<CreaDate>20201117</CreaDate>
<CreaTime>12504400</CreaTime>
<ArcGISFormat>1.0</ArcGISFormat>
<SyncOnce>FALSE</SyncOnce>
<DataProperties>
<lineage>
<Process Date="20201029" Name="" Time="100311" ToolSource="c:\program files (x86)\arcgis\desktop10.6\ArcToolbox\Toolboxes\Data Management Tools.tbx\ManageTileCache" export="">ManageTileCache W:\20200452_Lubbock_2020\Delivery\Tile_Cache RECREATE_ALL_TILES Lubbock_Orthos_2020_cache \\a-bhi-spat\Lubbock-Data\20200452_Lubbock_2020\Production\Orthos\Final_Mosaics\Lubbock_Orthophotography_2020.gdb\Lubbock_Orthos_2020 IMPORT_SCHEME W:\20200452_Lubbock_2020\Delivery\Tile_Cache\conf.xml 500000;250000;125000;62500;31250;15625;7812.5;3906.25;1953.125;976.5625;488.28125;244.140625 "Feature Set" # 500000 244.140625</Process>
</lineage>
<itemProps>
<itemName Sync="TRUE">Lubbock_Image_Cache_2020_State_Plane</itemName>
<itemLocation>
<linkage Sync="TRUE">file://\\lbbesrifile01\arcgisserver\directories\arcgiscache\Lubbock_Image_Cache_2020_State_Plane</linkage>
<protocol Sync="TRUE">Local Area Network</protocol>
</itemLocation>
<imsContentType Sync="TRUE">002</imsContentType>
<nativeExtBox>
<westBL Sync="TRUE">854963.099501</westBL>
<eastBL Sync="TRUE">1192401.894803</eastBL>
<southBL Sync="TRUE">7076748.002116</southBL>
<northBL Sync="TRUE">7369178.032091</northBL>
<exTypeCode Sync="TRUE">1</exTypeCode>
</nativeExtBox>
</itemProps>
<coordRef>
<type Sync="TRUE">Projected</type>
<geogcsn Sync="TRUE">GCS_North_American_1983</geogcsn>
<csUnits Sync="TRUE">Linear Unit: Foot_US (0.304801)</csUnits>
<projcsn Sync="TRUE">NAD_1983_StatePlane_Texas_North_Central_FIPS_4202_Feet</projcsn>
<peXml Sync="TRUE">&lt;ProjectedCoordinateSystem xsi:type='typens:ProjectedCoordinateSystem' xmlns:xsi='http://www.w3.org/2001/XMLSchema-instance' xmlns:xs='http://www.w3.org/2001/XMLSchema' xmlns:typens='http://www.esri.com/schemas/ArcGIS/10.7'&gt;&lt;WKT&gt;PROJCS[&amp;quot;NAD_1983_StatePlane_Texas_North_Central_FIPS_4202_Feet&amp;quot;,GEOGCS[&amp;quot;GCS_North_American_1983&amp;quot;,DATUM[&amp;quot;D_North_American_1983&amp;quot;,SPHEROID[&amp;quot;GRS_1980&amp;quot;,6378137.0,298.257222101]],PRIMEM[&amp;quot;Greenwich&amp;quot;,0.0],UNIT[&amp;quot;Degree&amp;quot;,0.0174532925199433]],PROJECTION[&amp;quot;Lambert_Conformal_Conic&amp;quot;],PARAMETER[&amp;quot;False_Easting&amp;quot;,1968500.0],PARAMETER[&amp;quot;False_Northing&amp;quot;,6561666.666666666],PARAMETER[&amp;quot;Central_Meridian&amp;quot;,-98.5],PARAMETER[&amp;quot;Standard_Parallel_1&amp;quot;,32.13333333333333],PARAMETER[&amp;quot;Standard_Parallel_2&amp;quot;,33.96666666666667],PARAMETER[&amp;quot;Latitude_Of_Origin&amp;quot;,31.66666666666667],UNIT[&amp;quot;Foot_US&amp;quot;,0.3048006096012192],AUTHORITY[&amp;quot;EPSG&amp;quot;,2276]]&lt;/WKT&gt;&lt;XOrigin&gt;-123407700&lt;/XOrigin&gt;&lt;YOrigin&gt;-86123500&lt;/YOrigin&gt;&lt;XYScale&gt;35920690.11000888&lt;/XYScale&gt;&lt;ZOrigin&gt;-100000&lt;/ZOrigin&gt;&lt;ZScale&gt;10000&lt;/ZScale&gt;&lt;MOrigin&gt;-100000&lt;/MOrigin&gt;&lt;MScale&gt;10000&lt;/MScale&gt;&lt;XYTolerance&gt;0.0032808333333333331&lt;/XYTolerance&gt;&lt;ZTolerance&gt;0.001&lt;/ZTolerance&gt;&lt;MTolerance&gt;0.001&lt;/MTolerance&gt;&lt;HighPrecision&gt;true&lt;/HighPrecision&gt;&lt;WKID&gt;102738&lt;/WKID&gt;&lt;LatestWKID&gt;2276&lt;/LatestWKID&gt;&lt;/ProjectedCoordinateSystem&gt;</peXml>
</coordRef>
<RasterProperties>
<General>
<PixelDepth Sync="TRUE">32</PixelDepth>
<HasColormap Sync="TRUE">FALSE</HasColormap>
<CompressionType Sync="TRUE">Mixed</CompressionType>
<NumBands Sync="TRUE">1</NumBands>
<Format Sync="TRUE">Cache/Mixed</Format>
<HasPyramids Sync="TRUE">TRUE</HasPyramids>
<SourceType Sync="TRUE">continuous</SourceType>
<PixelType Sync="TRUE">unsigned integer</PixelType>
<NoDataValue Sync="TRUE"/>
</General>
</RasterProperties>
<copyHistory>
<copy date="20201117" dest="\\lbbesrifile01\arcgisserver\directories\arcgiscache\Lubbock_Orthos_2020_EPSG2276_Cache" source="S:\gisds\imagery\geotiffs\2020_Cache\Lubbock_Orthos_2020_EPSG2276_Cache" time="12504400"/>
</copyHistory>
</DataProperties>
<SyncDate>20201123</SyncDate>
<SyncTime>11573200</SyncTime>
<ModDate>20201123</ModDate>
<ModTime>11573200</ModTime>
<scaleRange>
<minScale>150000000</minScale>
<maxScale>5000</maxScale>
</scaleRange>
<ArcGISProfile>ItemDescription</ArcGISProfile>
</Esri>
<dataIdInfo>
<envirDesc Sync="TRUE"> Version 6.2 (Build 9200) ; Esri ArcGIS 10.7.1.11595</envirDesc>
<dataLang>
<languageCode Sync="TRUE" value="eng"/>
<countryCode Sync="TRUE" value="USA"/>
</dataLang>
<idCitation>
<resTitle Sync="TRUE">Lubbock_Image_Cache_2020_State_Plane</resTitle>
<presForm>
<PresFormCd Sync="TRUE" value="005"/>
</presForm>
</idCitation>
<spatRpType>
<SpatRepTypCd Sync="TRUE" value="002"/>
</spatRpType>
<dataExt>
<geoEle>
<GeoBndBox esriExtentType="search">
<exTypeCode Sync="TRUE">1</exTypeCode>
<westBL Sync="TRUE">-102.167539</westBL>
<eastBL Sync="TRUE">-101.033459</eastBL>
<northBL Sync="TRUE">33.860209</northBL>
<southBL Sync="TRUE">33.029515</southBL>
</GeoBndBox>
</geoEle>
</dataExt>
<idPurp>2020 Orthoimagery of the City of Lubbock and Lubbock County - April 2020 - Projected in NAD83 State Plane Texas North Central - 4202 ft - EPSG 2276</idPurp>
<searchKeys>
<keyword>imagery</keyword>
<keyword>aerial</keyword>
<keyword>ortho</keyword>
<keyword>orthoimagery</keyword>
<keyword>geotiff</keyword>
<keyword>cache</keyword>
<keyword>lubbock</keyword>
<keyword>city</keyword>
<keyword>county</keyword>
<keyword>state plane</keyword>
<keyword>web</keyword>
<keyword>City of Lubbock</keyword>
</searchKeys>
<idAbs/>
<idCredit>Bohannon Huston Inc.</idCredit>
<resConst>
<Consts>
<useLimit/>
</Consts>
</resConst>
</dataIdInfo>
<mdLang>
<languageCode Sync="TRUE" value="eng"/>
<countryCode Sync="TRUE" value="USA"/>
</mdLang>
<mdChar>
<CharSetCd Sync="TRUE" value="004"/>
</mdChar>
<distInfo>
<distFormat>
<formatName Sync="TRUE">Raster Dataset</formatName>
</distFormat>
</distInfo>
<mdHrLv>
<ScopeCd Sync="TRUE" value="005"/>
</mdHrLv>
<mdHrLvName Sync="TRUE">dataset</mdHrLvName>
<refSysInfo>
<RefSystem>
<refSysID>
<identCode Sync="TRUE" code="2276"/>
<idCodeSpace Sync="TRUE">EPSG</idCodeSpace>
<idVersion Sync="TRUE">5.3(9.0.0)</idVersion>
</refSysID>
</RefSystem>
</refSysInfo>
<spatRepInfo>
<Georect>
<cellGeo>
<CellGeoCd Sync="TRUE" value="002"/>
</cellGeo>
<numDims Sync="TRUE">2</numDims>
<tranParaAv Sync="TRUE">1</tranParaAv>
<chkPtAv Sync="TRUE">0</chkPtAv>
<cornerPts>
<pos Sync="TRUE">854963.099501 7076748.002116</pos>
</cornerPts>
<cornerPts>
<pos Sync="TRUE">854963.099501 7369178.032091</pos>
</cornerPts>
<cornerPts>
<pos Sync="TRUE">1192401.894803 7369178.032091</pos>
</cornerPts>
<cornerPts>
<pos Sync="TRUE">1192401.894803 7076748.002116</pos>
</cornerPts>
<centerPt>
<pos Sync="TRUE">1023682.497152 7222963.017103</pos>
</centerPt>
<axisDimension type="002">
<dimSize Sync="TRUE">1592236</dimSize>
<dimResol>
<value Sync="TRUE" uom="ftUS">0.211928</value>
</dimResol>
</axisDimension>
<axisDimension type="001">
<dimSize Sync="TRUE">1379858</dimSize>
<dimResol>
<value Sync="TRUE" uom="ftUS">0.211928</value>
</dimResol>
</axisDimension>
<ptInPixel>
<PixOrientCd Sync="TRUE" value="001"/>
</ptInPixel>
</Georect>
</spatRepInfo>
<contInfo>
<ImgDesc>
<contentTyp>
<ContentTypCd Sync="TRUE" value="001"/>
</contentTyp>
<covDim>
<Band>
<dimDescrp Sync="TRUE">Band_1</dimDescrp>
<bitsPerVal Sync="TRUE">32</bitsPerVal>
<valUnit>
<UOM type="length"/>
</valUnit>
</Band>
</covDim>
</ImgDesc>
</contInfo>
<mdDateSt Sync="TRUE">20201123</mdDateSt>
</metadata>
