<?xml version="1.0" encoding="UTF-8" standalone="no"?>
<metadata xml:lang="en">
<Esri>
<CreaDate>20191009</CreaDate>
<CreaTime>05414900</CreaTime>
<ArcGISFormat>1.0</ArcGISFormat>
<SyncOnce>FALSE</SyncOnce>
<DataProperties>
<lineage>
<Process Date="20191009" Name="" Time="054149" ToolSource="c:\program files (x86)\arcgis\desktop10.6\ArcToolbox\Toolboxes\Data Management Tools.tbx\ManageTileCache" export="">ManageTileCache \\a-bhi-spat\Lubbock-Data\20190538_Lubbock_2019\Delivery\5_ESRI_Tile_Cache\ RECREATE_ALL_TILES Lubbock_Orthophotography_2019_WGS84_cache \\a-bhi-spat\Lubbock-Data\20190538_Lubbock_2019\Delivery\3_ESRI_Geodatabase_Raster_Mosaic\Lubbock_Orthophotography_2019.gdb\Lubbock_Orthophotography IMPORT_SCHEME \\a-bhi-spat\Lubbock-Data\20190538_Lubbock_2019\Delivery\5_ESRI_Tile_Cache\conf.xml 591657527.591555;295828763.795777;147914381.897889;73957190.948944;36978595.474472;18489297.737236;9244648.868618;4622324.434309;2311162.217155;1155581.108577;577790.554289;288895.277144;144447.638572;72223.819286;36111.909643;18055.954822;9027.977411;4513.988705;2256.994353;1128.497176;564.248588;282.124294 "Feature Set" # 73957190.948944 282.124294</Process>
</lineage>
<itemProps>
<itemName Sync="TRUE">Lubbock_Image_Cache_2019_Mercator</itemName>
<itemLocation>
<linkage Sync="TRUE">file://\\lbbesrifile01\arcgisserver\directories\arcgiscache\Lubbock_Image_Cache_2019_Mercator</linkage>
<protocol Sync="TRUE">Local Area Network</protocol>
</itemLocation>
<imsContentType Sync="TRUE">002</imsContentType>
<nativeExtBox>
<westBL Sync="TRUE">-11365467.943960</westBL>
<eastBL Sync="TRUE">-11303758.927709</eastBL>
<southBL Sync="TRUE">3945575.199835</southBL>
<northBL Sync="TRUE">4007572.198562</northBL>
<exTypeCode Sync="TRUE">1</exTypeCode>
</nativeExtBox>
</itemProps>
<coordRef>
<type Sync="TRUE">Projected</type>
<geogcsn Sync="TRUE">GCS_WGS_1984</geogcsn>
<csUnits Sync="TRUE">Linear Unit: Meter (1.000000)</csUnits>
<projcsn Sync="TRUE">WGS_1984_Web_Mercator_Auxiliary_Sphere</projcsn>
<peXml Sync="TRUE">&lt;ProjectedCoordinateSystem xsi:type='typens:ProjectedCoordinateSystem' xmlns:xsi='http://www.w3.org/2001/XMLSchema-instance' xmlns:xs='http://www.w3.org/2001/XMLSchema' xmlns:typens='http://www.esri.com/schemas/ArcGIS/2.4.0'&gt;&lt;WKT&gt;PROJCS[&amp;quot;WGS_1984_Web_Mercator_Auxiliary_Sphere&amp;quot;,GEOGCS[&amp;quot;GCS_WGS_1984&amp;quot;,DATUM[&amp;quot;D_WGS_1984&amp;quot;,SPHEROID[&amp;quot;WGS_1984&amp;quot;,6378137.0,298.257223563]],PRIMEM[&amp;quot;Greenwich&amp;quot;,0.0],UNIT[&amp;quot;Degree&amp;quot;,0.0174532925199433]],PROJECTION[&amp;quot;Mercator_Auxiliary_Sphere&amp;quot;],PARAMETER[&amp;quot;False_Easting&amp;quot;,0.0],PARAMETER[&amp;quot;False_Northing&amp;quot;,0.0],PARAMETER[&amp;quot;Central_Meridian&amp;quot;,0.0],PARAMETER[&amp;quot;Standard_Parallel_1&amp;quot;,0.0],PARAMETER[&amp;quot;Auxiliary_Sphere_Type&amp;quot;,0.0],UNIT[&amp;quot;Meter&amp;quot;,1.0],AUTHORITY[&amp;quot;EPSG&amp;quot;,3857]]&lt;/WKT&gt;&lt;XOrigin&gt;-20037700&lt;/XOrigin&gt;&lt;YOrigin&gt;-30241100&lt;/YOrigin&gt;&lt;XYScale&gt;148923141.92838538&lt;/XYScale&gt;&lt;ZOrigin&gt;-100000&lt;/ZOrigin&gt;&lt;ZScale&gt;10000&lt;/ZScale&gt;&lt;MOrigin&gt;-100000&lt;/MOrigin&gt;&lt;MScale&gt;10000&lt;/MScale&gt;&lt;XYTolerance&gt;0.001&lt;/XYTolerance&gt;&lt;ZTolerance&gt;0.001&lt;/ZTolerance&gt;&lt;MTolerance&gt;0.001&lt;/MTolerance&gt;&lt;HighPrecision&gt;true&lt;/HighPrecision&gt;&lt;WKID&gt;102100&lt;/WKID&gt;&lt;LatestWKID&gt;3857&lt;/LatestWKID&gt;&lt;/ProjectedCoordinateSystem&gt;</peXml>
</coordRef>
<RasterProperties>
<General>
<PixelDepth Sync="TRUE">32</PixelDepth>
<HasColormap Sync="TRUE">FALSE</HasColormap>
<CompressionType Sync="TRUE">Mixed</CompressionType>
<NumBands Sync="TRUE">1</NumBands>
<Format Sync="TRUE">Cache/Mixed</Format>
<HasPyramids Sync="TRUE">TRUE</HasPyramids>
<SourceType Sync="TRUE">continuous</SourceType>
<PixelType Sync="TRUE">unsigned integer</PixelType>
<NoDataValue Sync="TRUE"/>
</General>
</RasterProperties>
</DataProperties>
<SyncDate>20191014</SyncDate>
<SyncTime>14133800</SyncTime>
<ModDate>20191014</ModDate>
<ModTime>14144100</ModTime>
<scaleRange>
<minScale>150000000</minScale>
<maxScale>5000</maxScale>
</scaleRange>
</Esri>
<dataIdInfo>
<envirDesc Sync="TRUE">Microsoft Windows 10 Version 10.0 (Build 17134) ; Esri ArcGIS 12.4.0.19948</envirDesc>
<dataLang>
<languageCode Sync="TRUE" value="eng"/>
<countryCode Sync="TRUE" value="USA"/>
</dataLang>
<idCitation>
<resTitle Sync="TRUE">Lubbock_Image_Cache_2019_Mercator</resTitle>
<presForm>
<PresFormCd Sync="TRUE" value="005"/>
</presForm>
</idCitation>
<spatRpType>
<SpatRepTypCd Sync="TRUE" value="002"/>
</spatRpType>
<dataExt>
<geoEle>
<GeoBndBox esriExtentType="search">
<exTypeCode Sync="TRUE">1</exTypeCode>
<westBL Sync="TRUE">-102.097736</westBL>
<eastBL Sync="TRUE">-101.543394</eastBL>
<northBL Sync="TRUE">33.841747</northBL>
<southBL Sync="TRUE">33.377924</southBL>
</GeoBndBox>
</geoEle>
</dataExt>
<idPurp>2019 Orthoimagery of City of Lubbock and Lubbock County - April/May 2019 - Projected in WGS 84 Web Mercator Auxiliary Sphere
</idPurp>
<idCredit>Bohannon Huston Inc.</idCredit>
<searchKeys>
<keyword>imagery</keyword>
<keyword>aerial</keyword>
<keyword>ortho</keyword>
<keyword>orthoimagery</keyword>
<keyword>geotiff</keyword>
<keyword>cache</keyword>
<keyword>lubbock</keyword>
<keyword>city</keyword>
<keyword>county</keyword>
<keyword>mercator</keyword>
<keyword>web</keyword>
<keyword>City of Lubbock</keyword>
</searchKeys>
<idAbs/>
<resConst>
<Consts>
<useLimit/>
</Consts>
</resConst>
</dataIdInfo>
<mdLang>
<languageCode Sync="TRUE" value="eng"/>
<countryCode Sync="TRUE" value="USA"/>
</mdLang>
<mdChar>
<CharSetCd Sync="TRUE" value="004"/>
</mdChar>
<distInfo>
<distFormat>
<formatName Sync="TRUE">Raster Dataset</formatName>
</distFormat>
</distInfo>
<mdHrLv>
<ScopeCd Sync="TRUE" value="005"/>
</mdHrLv>
<mdHrLvName Sync="TRUE">dataset</mdHrLvName>
<refSysInfo>
<RefSystem>
<refSysID>
<identCode Sync="TRUE" code="3857"/>
<idCodeSpace Sync="TRUE">EPSG</idCodeSpace>
<idVersion Sync="TRUE">8.8(9.3.1.2)</idVersion>
</refSysID>
</RefSystem>
</refSysInfo>
<spatRepInfo>
<Georect>
<cellGeo>
<CellGeoCd Sync="TRUE" value="002"/>
</cellGeo>
<numDims Sync="TRUE">2</numDims>
<tranParaAv Sync="TRUE">1</tranParaAv>
<chkPtAv Sync="TRUE">0</chkPtAv>
<cornerPts>
<pos Sync="TRUE">-11365467.943960 3945575.199835</pos>
</cornerPts>
<cornerPts>
<pos Sync="TRUE">-11365467.943960 4007572.198562</pos>
</cornerPts>
<cornerPts>
<pos Sync="TRUE">-11303758.927709 4007572.198562</pos>
</cornerPts>
<cornerPts>
<pos Sync="TRUE">-11303758.927709 3945575.199835</pos>
</cornerPts>
<centerPt>
<pos Sync="TRUE">-11334613.435834 3976573.699198</pos>
</centerPt>
<axisDimension type="002">
<dimSize Sync="TRUE">826694</dimSize>
<dimResol>
<value Sync="TRUE" uom="m">0.074646</value>
</dimResol>
</axisDimension>
<axisDimension type="001">
<dimSize Sync="TRUE">830552</dimSize>
<dimResol>
<value Sync="TRUE" uom="m">0.074646</value>
</dimResol>
</axisDimension>
<ptInPixel>
<PixOrientCd Sync="TRUE" value="001"/>
</ptInPixel>
</Georect>
</spatRepInfo>
<contInfo>
<ImgDesc>
<contentTyp>
<ContentTypCd Sync="TRUE" value="001"/>
</contentTyp>
<covDim>
<Band>
<dimDescrp Sync="TRUE">Band_1</dimDescrp>
<bitsPerVal Sync="TRUE">32</bitsPerVal>
<valUnit>
<UOM type="length"/>
</valUnit>
</Band>
</covDim>
</ImgDesc>
</contInfo>
<mdDateSt Sync="TRUE">20191014</mdDateSt>
</metadata>
