{
 "currentVersion": 10.91,
 "serviceDescription": "City of Lubbock Imagery 2018. Cached in Web Mercator.",
 "name": "Imagery/Lubbock_Image_Cache_2018_Mercator",
 "description": "City of Lubbock Imagery 2018. Cached in Web Mercator.",
 "extent": {
  "xmin": -1.136446776843133E7,
  "ymin": 3944640.6377311605,
  "xmax": -1.1317203409737078E7,
  "ymax": 4006196.332053233,
  "spatialReference": {
   "wkid": 102100,
   "latestWkid": 3857
  }
 },
 "initialExtent": {
  "xmin": -1.136446776843133E7,
  "ymin": 3944640.6377311605,
  "xmax": -1.1317203409737078E7,
  "ymax": 4006196.332053233,
  "spatialReference": {
   "wkid": 102100,
   "latestWkid": 3857
  }
 },
 "fullExtent": {
  "xmin": -1.136446776843133E7,
  "ymin": 3944640.6377311605,
  "xmax": -1.1317203409737078E7,
  "ymax": 4006196.332053233,
  "spatialReference": {
   "wkid": 102100,
   "latestWkid": 3857
  }
 },
 "pixelSizeX": 0.2985821416476198,
 "pixelSizeY": 0.2985821416476156,
 "bandCount": 3,
 "pixelType": "U8",
 "minPixelSize": 0,
 "maxPixelSize": 0,
 "copyrightText": "",
 "serviceDataType": "esriImageServiceDataTypeRGB",
 "minValues": [],
 "maxValues": [],
 "meanValues": [],
 "stdvValues": [],
 "objectIdField": "",
 "fields": [],
 "capabilities": "Mensuration,Image,Metadata",
 "defaultMosaicMethod": "Center",
 "allowedMosaicMethods": "",
 "sortField": "",
 "sortValue": null,
 "sortAscending": true,
 "mosaicOperator": "First",
 "defaultCompressionQuality": 75,
 "defaultResamplingMethod": "Bilinear",
 "maxImageHeight": 4100,
 "maxImageWidth": 15000,
 "allowRasterFunction": true,
 "rasterFunctionInfos": [
  {
   "name": "None",
   "description": "",
   "help": ""
  }
 ],
 "rasterTypeInfos": [
  {
   "name": "Raster Dataset",
   "description": "Supports all ArcGIS Raster Datasets",
   "help": ""
  }
 ],
 "mensurationCapabilities": "Basic",
 "hasHistograms": false,
 "hasColormap": false,
 "hasRasterAttributeTable": false,
 "minScale": 0,
 "maxScale": 0,
 "exportTilesAllowed": false,
 "hasMultidimensions": false,
 "supportsStatistics": false,
 "supportsAdvancedQueries": false,
 "editFieldsInfo": null,
 "ownershipBasedAccessControlForRasters": null,
 "allowComputeTiePoints": false,
 "useStandardizedQueries": true,
 "advancedQueryCapabilities": {
  "useStandardizedQueries": true,
  "supportsStatistics": false,
  "supportsOrderBy": false,
  "supportsDistinct": false,
  "supportsPagination": false
 },
 "spatialReference": {
  "wkid": 102100,
  "latestWkid": 3857
 }
}
