<?xml version="1.0" encoding="UTF-8" standalone="no"?>
<metadata xml:lang="en">
<Esri>
<CreaDate>20191007</CreaDate>
<CreaTime>15562000</CreaTime>
<ArcGISFormat>1.0</ArcGISFormat>
<SyncOnce>FALSE</SyncOnce>
<ModDate>20191007</ModDate>
<ModTime>15565900</ModTime>
<DataProperties>
<itemProps>
<itemName Sync="TRUE">Lubbock_Image_Cache_2016</itemName>
<itemLocation>
<linkage Sync="TRUE">file://\\lbbesrifile01\arcgisserver\directories\arcgiscache\Lubbock_Image_Cache_2016</linkage>
<protocol Sync="TRUE">Local Area Network</protocol>
</itemLocation>
<imsContentType Sync="TRUE">002</imsContentType>
<nativeExtBox>
<westBL Sync="TRUE">878722.960069</westBL>
<eastBL Sync="TRUE">997523.090278</eastBL>
<southBL Sync="TRUE">7205498.090278</southBL>
<northBL Sync="TRUE">7337498.090278</northBL>
<exTypeCode Sync="TRUE">1</exTypeCode>
</nativeExtBox>
</itemProps>
<coordRef>
<type Sync="TRUE">Projected</type>
<geogcsn Sync="TRUE">GCS_North_American_1983</geogcsn>
<csUnits Sync="TRUE">Linear Unit: Foot_US (0.304801)</csUnits>
<projcsn Sync="TRUE">NAD_1983_StatePlane_Texas_North_Central_FIPS_4202_Feet</projcsn>
<peXml Sync="TRUE">&lt;ProjectedCoordinateSystem xsi:type='typens:ProjectedCoordinateSystem' xmlns:xsi='http://www.w3.org/2001/XMLSchema-instance' xmlns:xs='http://www.w3.org/2001/XMLSchema' xmlns:typens='http://www.esri.com/schemas/ArcGIS/10.6'&gt;&lt;WKT&gt;PROJCS[&amp;quot;NAD_1983_StatePlane_Texas_North_Central_FIPS_4202_Feet&amp;quot;,GEOGCS[&amp;quot;GCS_North_American_1983&amp;quot;,DATUM[&amp;quot;D_North_American_1983&amp;quot;,SPHEROID[&amp;quot;GRS_1980&amp;quot;,6378137.0,298.257222101]],PRIMEM[&amp;quot;Greenwich&amp;quot;,0.0],UNIT[&amp;quot;Degree&amp;quot;,0.0174532925199433]],PROJECTION[&amp;quot;Lambert_Conformal_Conic&amp;quot;],PARAMETER[&amp;quot;False_Easting&amp;quot;,1968500.0],PARAMETER[&amp;quot;False_Northing&amp;quot;,6561666.666666666],PARAMETER[&amp;quot;Central_Meridian&amp;quot;,-98.5],PARAMETER[&amp;quot;Standard_Parallel_1&amp;quot;,32.13333333333333],PARAMETER[&amp;quot;Standard_Parallel_2&amp;quot;,33.96666666666667],PARAMETER[&amp;quot;Latitude_Of_Origin&amp;quot;,31.66666666666667],UNIT[&amp;quot;Foot_US&amp;quot;,0.3048006096012192],AUTHORITY[&amp;quot;EPSG&amp;quot;,2276]]&lt;/WKT&gt;&lt;XOrigin&gt;-123407700&lt;/XOrigin&gt;&lt;YOrigin&gt;-86123500&lt;/YOrigin&gt;&lt;XYScale&gt;35920690.11000888&lt;/XYScale&gt;&lt;ZOrigin&gt;-100000&lt;/ZOrigin&gt;&lt;ZScale&gt;10000&lt;/ZScale&gt;&lt;MOrigin&gt;-100000&lt;/MOrigin&gt;&lt;MScale&gt;10000&lt;/MScale&gt;&lt;XYTolerance&gt;0.0032808333333333331&lt;/XYTolerance&gt;&lt;ZTolerance&gt;0.001&lt;/ZTolerance&gt;&lt;MTolerance&gt;0.001&lt;/MTolerance&gt;&lt;HighPrecision&gt;true&lt;/HighPrecision&gt;&lt;WKID&gt;102738&lt;/WKID&gt;&lt;LatestWKID&gt;2276&lt;/LatestWKID&gt;&lt;/ProjectedCoordinateSystem&gt;</peXml>
</coordRef>
<RasterProperties>
<General>
<PixelDepth Sync="TRUE">32</PixelDepth>
<HasColormap Sync="TRUE">FALSE</HasColormap>
<CompressionType Sync="TRUE">Mixed</CompressionType>
<NumBands Sync="TRUE">1</NumBands>
<Format Sync="TRUE">Cache/Mixed</Format>
<HasPyramids Sync="TRUE">TRUE</HasPyramids>
<SourceType Sync="TRUE">continuous</SourceType>
<PixelType Sync="TRUE">unsigned integer</PixelType>
<NoDataValue Sync="TRUE"/>
</General>
</RasterProperties>
<lineage>
<Process Date="20260209" Time="100330" ToolSource="c:\program files\arcgis\pro\Resources\ArcToolbox\toolboxes\Data Management Tools.tbx\Rename">Rename \\lbbesrifile11\arcgisserver\directories\arcgiscache\Lubbock_Image_Cache_2016 \\lbbesrifile11\arcgisserver\directories\arcgiscache\Lubbock_Image_Cache_2016_StatePlane RasterDataset</Process>
</lineage>
</DataProperties>
<SyncDate>20191007</SyncDate>
<SyncTime>15565900</SyncTime>
</Esri>
<mdDateSt Sync="TRUE">20191007</mdDateSt>
<dataIdInfo>
<envirDesc Sync="TRUE"> Version 6.2 (Build 9200) ; Esri ArcGIS 10.6.1.9270</envirDesc>
<dataLang>
<languageCode Sync="TRUE" value="eng"/>
<countryCode Sync="TRUE" value="USA"/>
</dataLang>
<idCitation>
<resTitle Sync="TRUE">Lubbock_Image_Cache_2016_State_Plane</resTitle>
<presForm>
<PresFormCd Sync="TRUE" value="005"/>
</presForm>
</idCitation>
<spatRpType>
<SpatRepTypCd Sync="TRUE" value="002"/>
</spatRpType>
<dataExt>
<geoEle>
<GeoBndBox esriExtentType="search">
<exTypeCode Sync="TRUE">1</exTypeCode>
<westBL Sync="TRUE">-102.085785</westBL>
<eastBL Sync="TRUE">-101.681990</eastBL>
<northBL Sync="TRUE">33.758523</northBL>
<southBL Sync="TRUE">33.385423</southBL>
</GeoBndBox>
</geoEle>
</dataExt>
<idAbs>City of Lubbock Imagery 2016 State Plane</idAbs>
<searchKeys>
<keyword>City of Lubbock</keyword>
<keyword>imagery</keyword>
<keyword>aerial</keyword>
<keyword>orthophotography</keyword>
<keyword>state plane</keyword>
</searchKeys>
<idPurp>City of Lubbock Imagery 2016 State Plane</idPurp>
<idCredit>Bohannon Huston Albuquerque, NM</idCredit>
<resConst>
<Consts>
<useLimit>&lt;p style='mso-margin-top-alt:auto;mso-margin-bottom-alt:auto'&gt;&lt;span style='font-size:12.0pt;line-height:107%;font-family:&amp;quot;Calibri Light&amp;quot;,sans-serif;
mso-bidi-font-family:&amp;quot;Times New Roman&amp;quot;'&gt;These maps were created with data from
various sources exclusively for internal use by the City of Lubbock.
Information contained in these maps may be incorrect and may not be current.
The City of Lubbock, Texas does not warrant the accuracy, reliability, or
timeliness of such information.&lt;/span&gt;&lt;/p&gt;
&lt;p style='mso-margin-top-alt:auto;mso-margin-bottom-alt:auto'&gt;&lt;span style='font-size:12.0pt;line-height:107%;font-family:&amp;quot;Calibri Light&amp;quot;,sans-serif;
mso-bidi-font-family:&amp;quot;Times New Roman&amp;quot;'&gt;As required by Chapter 2051, SUBCHAPTER
D. GEOSPATIAL DATA PRODUCTS of the Government Code,  this product is for
informational purposes and may not have been prepared for or be suitable for
legal, engineering, or surveying purposes. It does not represent an
on-the-ground survey and represents only the approximate relative location of
property boundaries.&lt;/span&gt;&lt;/p&gt;
&lt;p style='mso-margin-top-alt:auto;mso-margin-bottom-alt:auto'&gt;&lt;span style='font-size:12.0pt;line-height:107%;font-family:&amp;quot;Calibri Light&amp;quot;,sans-serif;
mso-bidi-font-family:&amp;quot;Times New Roman&amp;quot;'&gt;THIS PUBLICATION IS PROVIDED &amp;quot;AS
IS&amp;quot; WITHOUT WARRANTY OF ANY KIND, EITHER EXPRESS OR IMPLIED, INCLUDING,
BUT NOT LIMITED TO THE IMPLIED WARRANTIES OF MERCHANTABILITY, FITNESS FOR A
PARTICULAR PURPOSE, OR NON-INFRINGEMENT. THE CITY OF LUBBOCK SHALL NOT BE
LIABLE FOR ANY DIRECT, INDIRECT, SPECIAL, INCIDENTAL, OR CONSEQUENTIAL DAMAGES
RELATED TO THE USE OF THIS PUBLICATION, WHETHER OR NOT THE CITY OF LUBBOCK IS
ADVISED OF SUCH DAMAGE.&lt;/span&gt;&lt;/p&gt;</useLimit>
</Consts>
</resConst>
</dataIdInfo>
<mdLang>
<languageCode Sync="TRUE" value="eng"/>
<countryCode Sync="TRUE" value="USA"/>
</mdLang>
<mdChar>
<CharSetCd Sync="TRUE" value="004"/>
</mdChar>
<distInfo>
<distFormat>
<formatName Sync="TRUE">Raster Dataset</formatName>
</distFormat>
</distInfo>
<mdHrLv>
<ScopeCd Sync="TRUE" value="005"/>
</mdHrLv>
<mdHrLvName Sync="TRUE">dataset</mdHrLvName>
<refSysInfo>
<RefSystem>
<refSysID>
<identCode Sync="TRUE" code="2276"/>
<idCodeSpace Sync="TRUE">EPSG</idCodeSpace>
<idVersion Sync="TRUE">5.3(9.0.0)</idVersion>
</refSysID>
</RefSystem>
</refSysInfo>
<spatRepInfo>
<Georect>
<cellGeo>
<CellGeoCd Sync="TRUE" value="002"/>
</cellGeo>
<numDims Sync="TRUE">2</numDims>
<tranParaAv Sync="TRUE">1</tranParaAv>
<chkPtAv Sync="TRUE">0</chkPtAv>
<cornerPts>
<pos Sync="TRUE">878722.960069 7205498.090278</pos>
</cornerPts>
<cornerPts>
<pos Sync="TRUE">878722.960069 7337498.090278</pos>
</cornerPts>
<cornerPts>
<pos Sync="TRUE">997523.090278 7337498.090278</pos>
</cornerPts>
<cornerPts>
<pos Sync="TRUE">997523.090278 7205498.090278</pos>
</cornerPts>
<centerPt>
<pos Sync="TRUE">938123.025174 7271498.090278</pos>
</centerPt>
<axisDimension type="002">
<dimSize Sync="TRUE">547431</dimSize>
<dimResol>
<value Sync="TRUE" uom="ftUS">0.217014</value>
</dimResol>
</axisDimension>
<axisDimension type="001">
<dimSize Sync="TRUE">608256</dimSize>
<dimResol>
<value Sync="TRUE" uom="ftUS">0.217014</value>
</dimResol>
</axisDimension>
<ptInPixel>
<PixOrientCd Sync="TRUE" value="001"/>
</ptInPixel>
</Georect>
</spatRepInfo>
<contInfo>
<ImgDesc>
<contentTyp>
<ContentTypCd Sync="TRUE" value="001"/>
</contentTyp>
<covDim>
<Band>
<dimDescrp Sync="TRUE">Band_1</dimDescrp>
<bitsPerVal Sync="TRUE">32</bitsPerVal>
<valUnit>
<UOM type="length"/>
</valUnit>
</Band>
</covDim>
</ImgDesc>
</contInfo>
</metadata>
